BEGIN:VCALENDAR
VERSION:2.0
PRODID:-//ODIONJA - ECPv6.15.20//NONSGML v1.0//EN
CALSCALE:GREGORIAN
METHOD:PUBLISH
X-WR-CALNAME:ODIONJA
X-ORIGINAL-URL:https://odionja.com
X-WR-CALDESC:Events for ODIONJA
REFRESH-INTERVAL;VALUE=DURATION:PT1H
X-Robots-Tag:noindex
X-PUBLISHED-TTL:PT1H
BEGIN:VTIMEZONE
TZID:America/New_York
BEGIN:DAYLIGHT
TZOFFSETFROM:-0500
TZOFFSETTO:-0400
TZNAME:EDT
DTSTART:20240310T070000
END:DAYLIGHT
BEGIN:STANDARD
TZOFFSETFROM:-0400
TZOFFSETTO:-0500
TZNAME:EST
DTSTART:20241103T060000
END:STANDARD
BEGIN:DAYLIGHT
TZOFFSETFROM:-0500
TZOFFSETTO:-0400
TZNAME:EDT
DTSTART:20250309T070000
END:DAYLIGHT
BEGIN:STANDARD
TZOFFSETFROM:-0400
TZOFFSETTO:-0500
TZNAME:EST
DTSTART:20251102T060000
END:STANDARD
BEGIN:DAYLIGHT
TZOFFSETFROM:-0500
TZOFFSETTO:-0400
TZNAME:EDT
DTSTART:20260308T070000
END:DAYLIGHT
BEGIN:STANDARD
TZOFFSETFROM:-0400
TZOFFSETTO:-0500
TZNAME:EST
DTSTART:20261101T060000
END:STANDARD
BEGIN:DAYLIGHT
TZOFFSETFROM:-0500
TZOFFSETTO:-0400
TZNAME:EDT
DTSTART:20270314T070000
END:DAYLIGHT
BEGIN:STANDARD
TZOFFSETFROM:-0400
TZOFFSETTO:-0500
TZNAME:EST
DTSTART:20271107T060000
END:STANDARD
END:VTIMEZONE
BEGIN:VEVENT
DTSTART;TZID=America/New_York:20260201T080000
DTEND;TZID=America/New_York:20260228T170000
DTSTAMP:20260423T060630
CREATED:20260107T155633Z
LAST-MODIFIED:20260107T155633Z
UID:3013-1769932800-1772298000@odionja.com
SUMMARY:UWI Carnival
DESCRIPTION:If you miss UWI Carnival\, you’ll hear about it all year 🎶🔥Top DJs\, wild energy\, and pure carnival madness. Tickets are limited—lock yours in now and be part of the experience everyone will be talking about.
URL:https://odionja.com/event/uwi-carnival/
LOCATION:UWI Mona Bowl\, Jamaica
ATTACH;FMTTYPE=image/jpeg:https://odionja.com/wp-content/uploads/2026/01/WhatsApp-Image-2026-01-05-at-12.25.27-AM.jpeg
ORGANIZER;CN="Wasi":MAILTO:test@gmail.com
END:VEVENT
BEGIN:VEVENT
DTSTART;TZID=America/New_York:20251231T080000
DTEND;TZID=America/New_York:20260102T170000
DTSTAMP:20260423T060630
CREATED:20260101T143437Z
LAST-MODIFIED:20260101T143437Z
UID:2703-1767168000-1767373200@odionja.com
SUMMARY:Creative Business Networking Night
DESCRIPTION:Join us for an exclusive evening of creativity\, collaboration\, and connection at the ODION Creative Business Networking Night. This event is designed for entrepreneurs\, creatives\, business owners\, and brands looking to expand their network and explore new growth opportunities. \nExpect inspiring conversations\, valuable insights\, and meaningful connections in a vibrant and professional atmosphere. Whether you’re launching a brand\, growing a business\, or seeking creative partnerships\, this event offers the perfect platform to connect with like-minded professionals.
URL:https://odionja.com/event/creative-business-networking-night/
LOCATION:Jamaica\, Kingston Conference Centre\, United States
ATTACH;FMTTYPE=image/jpeg:https://odionja.com/wp-content/uploads/2026/01/african-american-research-agency-coworkers-meeting-about-startup-project-financial-status-business-people-desk-company-office-finance-department-talking-about-marketing-expenses-scaled.jpg
ORGANIZER;CN="Wasi":MAILTO:test@gmail.com
END:VEVENT
BEGIN:VEVENT
DTSTART;TZID=America/New_York:20251231T080000
DTEND;TZID=America/New_York:20260102T170000
DTSTAMP:20260423T060630
CREATED:20260101T104724Z
LAST-MODIFIED:20260101T142819Z
UID:2504-1767168000-1767373200@odionja.com
SUMMARY:Business Networking Night
DESCRIPTION:Join us for an exclusive evening of creativity\, collaboration\, and connection at the ODION Creative Business Networking Night. This event is designed for entrepreneurs\, creatives\, business owners\, and brands looking to expand their network and explore new growth opportunities. \nExpect inspiring conversations\, valuable insights\, and meaningful connections in a vibrant and professional atmosphere. Whether you’re launching a brand\, growing a business\, or seeking creative partnerships\, this event offers the perfect platform to connect with like-minded professionals.
URL:https://odionja.com/event/business-networking-night/
LOCATION:Jamaica\, Kingston Conference Centre\, United States
ATTACH;FMTTYPE=image/jpeg:https://odionja.com/wp-content/uploads/2026/01/african-american-research-agency-coworkers-meeting-about-startup-project-financial-status-business-people-desk-company-office-finance-department-talking-about-marketing-expenses-scaled.jpg
ORGANIZER;CN="Wasi":MAILTO:test@gmail.com
END:VEVENT
END:VCALENDAR